BEGIN:VCALENDAR
VERSION:2.0
PRODID:-//wp-events-plugin.com//7.2.3.1//EN
BEGIN:VEVENT
UID:582@logsdencommunityclub.org
DTSTART;TZID=America/Los_Angeles:20260301T140000
DTEND;TZID=America/Los_Angeles:20260301T200000
DTSTAMP:20260103T210139Z
URL:https://logsdencommunityclub.org/events/siletz-anglers-association-fun
 draiser/
SUMMARY:Siletz Angler's Association Fundraiser
DESCRIPTION:              Join us on Sunday\, March 1st\, 2026 at 2 
 pm for the 7th Annual Siletz Angler's Association fundraiser at the Logsde
 n Community Club.\n \nSilent auction\, raffle tickets\, and BBQ.\nSee the
  SAA's website for more information.\nhttps://siletzanglersassociation.org
 /\n&nbsp\;\nSiletz Angler's Association (SAA)\, a nonprofit organization\,
  raises money to fund projects and improve infrastructure supporting the S
 iletz river and its wild broodstock program. SAA also supports surrounding
  rivers\, advocating for fishing opportunities for all.
CATEGORIES:Fundraising Event,Public Events,Recreation
LOCATION:Logsden Community Club\, 7707 Logsden Road\, Logsden\, Oregon\, 97
 357\, United States
X-APPLE-STRUCTURED-LOCATION;VALUE=URI;X-ADDRESS=7707 Logsden Road\, Logsden
 \, Oregon\, 97357\, United States;X-APPLE-RADIUS=100;X-TITLE=Logsden Commu
 nity Club:geo:0,0
END:VEVENT
BEGIN:VTIMEZONE
TZID:America/Los_Angeles
X-LIC-LOCATION:America/Los_Angeles
BEGIN:STANDARD
DTSTART:20251102T010000
TZOFFSETFROM:-0700
TZOFFSETTO:-0800
TZNAME:PST
END:STANDARD
END:VTIMEZONE
END:VCALENDAR