BEGIN:VCALENDAR
VERSION:2.0
PRODID:-//wp-events-plugin.com//7.2.3.1//EN
BEGIN:VEVENT
UID:691@logsdencommunityclub.org
DTSTART;TZID=America/Los_Angeles:20260509T110000
DTEND;TZID=America/Los_Angeles:20260509T130000
DTSTAMP:20260103T223803Z
URL:https://logsdencommunityclub.org/events/mothers-day-brunch-potluck/
SUMMARY:Mother's Day Brunch Potluck
DESCRIPTION:Please join us on Saturday\, May 9th for our Mother's Day brunc
 h potluck!\n\n\n&nbsp\;
CATEGORIES:Community Potluck
END:VEVENT
BEGIN:VTIMEZONE
TZID:America/Los_Angeles
X-LIC-LOCATION:America/Los_Angeles
BEGIN:DAYLIGHT
DTSTART:20260308T030000
TZOFFSETFROM:-0800
TZOFFSETTO:-0700
TZNAME:PDT
END:DAYLIGHT
END:VTIMEZONE
END:VCALENDAR