BEGIN:VCALENDAR
VERSION:2.0
PRODID:-//wp-events-plugin.com//7.2.3.1//EN
BEGIN:VEVENT
UID:689@logsdencommunityclub.org
DTSTART;TZID=America/Los_Angeles:20260314T100000
DTEND;TZID=America/Los_Angeles:20260314T220000
DTSTAMP:20260103T220921Z
URL:https://logsdencommunityclub.org/events/march-community-potluck-2/
SUMMARY:March Community Potluck
DESCRIPTION:Please join us for a breakfast potluck at 10 am on March 14th a
 nd our Buy-a-Ticket &amp\; Win-a-Prize event!\n\n\n[caption id="attachment
 _787" align="aligncenter" width="300"] Photo credit: Alyson Hurt[/caption]
CATEGORIES:Community Potluck,Fundraising Event
LOCATION:Logsden Community Club\, 7707 Logsden Rd\, Logsden\, Oregon\, 9735
 7\, United States
X-APPLE-STRUCTURED-LOCATION;VALUE=URI;X-ADDRESS=7707 Logsden Rd\, Logsden\,
  Oregon\, 97357\, United States;X-APPLE-RADIUS=100;X-TITLE=Logsden Communi
 ty Club:geo:0,0
END:VEVENT
BEGIN:VTIMEZONE
TZID:America/Los_Angeles
X-LIC-LOCATION:America/Los_Angeles
BEGIN:DAYLIGHT
DTSTART:20260308T030000
TZOFFSETFROM:-0800
TZOFFSETTO:-0700
TZNAME:PDT
END:DAYLIGHT
END:VTIMEZONE
END:VCALENDAR