BEGIN:VCALENDAR
VERSION:2.0
PRODID:-//wp-events-plugin.com//7.2.3.1//EN
BEGIN:VEVENT
UID:692@logsdencommunityclub.org
DTSTART;TZID=America/Los_Angeles:20260613T183000
DTEND;TZID=America/Los_Angeles:20260613T203000
DTSTAMP:20260103T224736Z
URL:https://logsdencommunityclub.org/events/june-community-potluck-art-kay
 -helkey-bingo-night-2/
SUMMARY:June Community Potluck - Art & Kay Helkey Bingo Night
DESCRIPTION:Please join us for a night of bingo and fun! In memory of Art a
 nd Kay Helkey\, longtime Logsden Community Club members and bingo lovers.\
 nPhoto credit: bridges&amp\;balloons
CATEGORIES:Community Potluck,Entertainment,Fundraising Event,Public Events
LOCATION:Logsden Community Club\, 7707 Logsden Rd\, Logsden\, Oregon\, 9735
 7\, United States
X-APPLE-STRUCTURED-LOCATION;VALUE=URI;X-ADDRESS=7707 Logsden Rd\, Logsden\,
  Oregon\, 97357\, United States;X-APPLE-RADIUS=100;X-TITLE=Logsden Communi
 ty Club:geo:0,0
END:VEVENT
BEGIN:VTIMEZONE
TZID:America/Los_Angeles
X-LIC-LOCATION:America/Los_Angeles
BEGIN:DAYLIGHT
DTSTART:20260308T030000
TZOFFSETFROM:-0800
TZOFFSETTO:-0700
TZNAME:PDT
END:DAYLIGHT
END:VTIMEZONE
END:VCALENDAR