BEGIN:VCALENDAR
VERSION:2.0
PRODID:-//wp-events-plugin.com//7.2.3.1//EN
BEGIN:VEVENT
UID:690@logsdencommunityclub.org
DTSTART;TZID=America/Los_Angeles:20260411T183000
DTEND;TZID=America/Los_Angeles:20260411T203000
DTSTAMP:20260103T223219Z
URL:https://logsdencommunityclub.org/events/april-community-potluck-3/
SUMMARY:April Community Potluck
DESCRIPTION:Please join us for our April Community Potluck. Event TBD.
CATEGORIES:Community Potluck
LOCATION:Logsden Community Club\, 7707 Logsden Rd\, Logsden\, Oregon\, 9735
 7\, United States
X-APPLE-STRUCTURED-LOCATION;VALUE=URI;X-ADDRESS=7707 Logsden Rd\, Logsden\,
  Oregon\, 97357\, United States;X-APPLE-RADIUS=100;X-TITLE=Logsden Communi
 ty Club:geo:0,0
END:VEVENT
BEGIN:VTIMEZONE
TZID:America/Los_Angeles
X-LIC-LOCATION:America/Los_Angeles
BEGIN:DAYLIGHT
DTSTART:20260308T030000
TZOFFSETFROM:-0800
TZOFFSETTO:-0700
TZNAME:PDT
END:DAYLIGHT
END:VTIMEZONE
END:VCALENDAR